BEGIN:VCALENDAR
VERSION:2.0
PRODID:-//hacksw/handcal//NONSGML v1.0//EN
BEGIN:VEVENT
UID:15229
DTSTART;VALUE=DATE:20220528
URL;VALUE=URI:ohschonhell.at/?page_id=34094
SUMMARY:Hart Lab
LOCATION:Black Market
END:VEVENT
END:VCALENDAR


