BEGIN:VCALENDAR
VERSION:2.0
PRODID:-//hacksw/handcal//NONSGML v1.0//EN
BEGIN:VEVENT
UID:15273
DTSTART;VALUE=DATE:20220611
URL;VALUE=URI:ohschonhell.at/?page_id=34185
SUMMARY:TECHNO PRIDE
LOCATION:Black Market
END:VEVENT
END:VCALENDAR


