BEGIN:VCALENDAR
VERSION:2.0
PRODID:-//hacksw/handcal//NONSGML v1.0//EN
BEGIN:VEVENT
UID:15298
DTSTART;VALUE=DATE:20220611
URL;VALUE=URI:ohschonhell.at/?page_id=34238
SUMMARY:Fortunea im Ponyhof #3 w/ Sam Irl\, Markus Quittner\, Nick Hanzo
LOCATION:Der Ponyhof
END:VEVENT
END:VCALENDAR


