BEGIN:VCALENDAR
VERSION:2.0
PRODID:-//hacksw/handcal//NONSGML v1.0//EN
BEGIN:VEVENT
UID:15304
DTSTART;VALUE=DATE:20220610
URL;VALUE=URI:ohschonhell.at/?page_id=34250
SUMMARY:DRUMWORKS PRES. KUTTIN EDGE & CANDLE SAUCE @ BLACK MARKET
LOCATION:Black Market
END:VEVENT
END:VCALENDAR


