BEGIN:VCALENDAR
VERSION:2.0
PRODID:-//hacksw/handcal//NONSGML v1.0//EN
BEGIN:VEVENT
UID:15328
DTSTART;VALUE=DATE:20220610
URL;VALUE=URI:ohschonhell.at/?page_id=34299
SUMMARY:Analogique Connection / Ponyhof
LOCATION:Der Ponyhof
END:VEVENT
END:VCALENDAR


