BEGIN:VCALENDAR
VERSION:2.0
PRODID:-//hacksw/handcal//NONSGML v1.0//EN
BEGIN:VEVENT
UID:15389
DTSTART;VALUE=DATE:20220624
URL;VALUE=URI:ohschonhell.at/?page_id=34422
SUMMARY:PRIVATE LANE x KOPF BEI FUSS w/ Bruno & Marco
LOCATION:SASS
END:VEVENT
END:VCALENDAR


