BEGIN:VCALENDAR
VERSION:2.0
PRODID:-//hacksw/handcal//NONSGML v1.0//EN
BEGIN:VEVENT
UID:15407
DTSTART;VALUE=DATE:20220715
URL;VALUE=URI:ohschonhell.at/?page_id=34458
SUMMARY:Deep Dive w/ Luca Eck
LOCATION:CAMERA CLUB
END:VEVENT
END:VCALENDAR


