BEGIN:VCALENDAR
VERSION:2.0
PRODID:-//hacksw/handcal//NONSGML v1.0//EN
BEGIN:VEVENT
UID:15408
DTSTART;VALUE=DATE:20220702
URL;VALUE=URI:ohschonhell.at/?page_id=34461
SUMMARY:Löwenzahn
LOCATION:Black Market
END:VEVENT
END:VCALENDAR


