BEGIN:VCALENDAR
VERSION:2.0
PRODID:-//hacksw/handcal//NONSGML v1.0//EN
BEGIN:VEVENT
UID:15409
DTSTART;VALUE=DATE:20220701
URL;VALUE=URI:ohschonhell.at/?page_id=34463
SUMMARY:Bazooka
LOCATION:Black Market
END:VEVENT
END:VCALENDAR


