BEGIN:VCALENDAR
VERSION:2.0
PRODID:-//hacksw/handcal//NONSGML v1.0//EN
BEGIN:VEVENT
UID:15426
DTSTART;VALUE=DATE:20220709
URL;VALUE=URI:ohschonhell.at/?page_id=34497
SUMMARY:DRY & WET by Bunkermukke
LOCATION:Black Market
END:VEVENT
END:VCALENDAR


