BEGIN:VCALENDAR
VERSION:2.0
PRODID:-//hacksw/handcal//NONSGML v1.0//EN
BEGIN:VEVENT
UID:15498
DTSTART;VALUE=DATE:20220708
URL;VALUE=URI:ohschonhell.at/?page_id=34641
SUMMARY:Pompadour & Friends - Ein Pony kommt selten allein
LOCATION:Der Ponyhof
END:VEVENT
END:VCALENDAR


