BEGIN:VCALENDAR
VERSION:2.0
PRODID:-//hacksw/handcal//NONSGML v1.0//EN
BEGIN:VEVENT
UID:15500
DTSTART;VALUE=DATE:20220706
URL;VALUE=URI:ohschonhell.at/?page_id=34645
SUMMARY:LUFTROSS
LOCATION:Der Ponyhof
END:VEVENT
END:VCALENDAR


