BEGIN:VCALENDAR
VERSION:2.0
PRODID:-//hacksw/handcal//NONSGML v1.0//EN
BEGIN:VEVENT
UID:1551
DTSTART;VALUE=DATE:20140627
URL;VALUE=URI:ohschonhell.at/?page_id=4084
SUMMARY:GASSEN AUS ZUCKER STAFFELLAUF plus AIRTIST
LOCATION:RAGNARHOF
END:VEVENT
END:VCALENDAR


