BEGIN:VCALENDAR
VERSION:2.0
PRODID:-//hacksw/handcal//NONSGML v1.0//EN
BEGIN:VEVENT
UID:15512
DTSTART;VALUE=DATE:20220715
URL;VALUE=URI:ohschonhell.at/?page_id=34669
SUMMARY:Raveladen #15
LOCATION:Kramladen
END:VEVENT
END:VCALENDAR


