BEGIN:VCALENDAR
VERSION:2.0
PRODID:-//hacksw/handcal//NONSGML v1.0//EN
BEGIN:VEVENT
UID:15522
DTSTART;VALUE=DATE:20220722
URL;VALUE=URI:ohschonhell.at/?page_id=34687
SUMMARY:Techno am Berg x Urlaub im Ponyhof
LOCATION:Der Ponyhof
END:VEVENT
END:VCALENDAR


