BEGIN:VCALENDAR
VERSION:2.0
PRODID:-//hacksw/handcal//NONSGML v1.0//EN
BEGIN:VEVENT
UID:15565
DTSTART;VALUE=DATE:20220814
URL;VALUE=URI:ohschonhell.at/?page_id=34774
SUMMARY:Jazzsticks Extraordinaire Vienna
LOCATION:Black Market
END:VEVENT
END:VCALENDAR


