BEGIN:VCALENDAR
VERSION:2.0
PRODID:-//hacksw/handcal//NONSGML v1.0//EN
BEGIN:VEVENT
UID:15585
DTSTART;VALUE=DATE:20220805
URL;VALUE=URI:ohschonhell.at/?page_id=34818
SUMMARY:All night long
LOCATION:Club Change
END:VEVENT
END:VCALENDAR


