BEGIN:VCALENDAR
VERSION:2.0
PRODID:-//hacksw/handcal//NONSGML v1.0//EN
BEGIN:VEVENT
UID:15586
DTSTART;VALUE=DATE:20220910
URL;VALUE=URI:ohschonhell.at/?page_id=34820
SUMMARY:Aut of Order
LOCATION:Club Change
END:VEVENT
END:VCALENDAR


