BEGIN:VCALENDAR
VERSION:2.0
PRODID:-//hacksw/handcal//NONSGML v1.0//EN
BEGIN:VEVENT
UID:15597
DTSTART;VALUE=DATE:20220819
URL;VALUE=URI:ohschonhell.at/?page_id=34842
SUMMARY:Synoid | Grelle Forelle
LOCATION:GRELLE FORELLE
END:VEVENT
END:VCALENDAR


