BEGIN:VCALENDAR
VERSION:2.0
PRODID:-//hacksw/handcal//NONSGML v1.0//EN
BEGIN:VEVENT
UID:1560
DTSTART;VALUE=DATE:20140628
URL;VALUE=URI:ohschonhell.at/?page_id=4093
SUMMARY:ENDSTATION draussen - LUFT &amp\; LIEBE
LOCATION:ENDSTATION HALTESTELLE 1er
END:VEVENT
END:VCALENDAR


