BEGIN:VCALENDAR
VERSION:2.0
PRODID:-//hacksw/handcal//NONSGML v1.0//EN
BEGIN:VEVENT
UID:15604
DTSTART;VALUE=DATE:20220812
URL;VALUE=URI:ohschonhell.at/?page_id=34856
SUMMARY:DRUMWORKS PRES. SENTIC CYCLE [4NC¥] @ BLACK MARKET
LOCATION:Black Market
END:VEVENT
END:VCALENDAR


