BEGIN:VCALENDAR
VERSION:2.0
PRODID:-//hacksw/handcal//NONSGML v1.0//EN
BEGIN:VEVENT
UID:15630
DTSTART;VALUE=DATE:20220818
URL;VALUE=URI:ohschonhell.at/?page_id=34910
SUMMARY:Dynamic / Kramladen
LOCATION:Kramladen
END:VEVENT
END:VCALENDAR


