BEGIN:VCALENDAR
VERSION:2.0
PRODID:-//hacksw/handcal//NONSGML v1.0//EN
BEGIN:VEVENT
UID:15632
DTSTART;VALUE=DATE:20220820
URL;VALUE=URI:ohschonhell.at/?page_id=34914
SUMMARY:Homebase w/ Gladis\, Elias Vo\, Kon:stil\, Malek
LOCATION:Enzo
END:VEVENT
END:VCALENDAR


