BEGIN:VCALENDAR
VERSION:2.0
PRODID:-//hacksw/handcal//NONSGML v1.0//EN
BEGIN:VEVENT
UID:1564
DTSTART;VALUE=DATE:20140704
URL;VALUE=URI:ohschonhell.at/?page_id=4098
SUMMARY:supersonic fridaze brazil special
LOCATION:BOXIRCUS
END:VEVENT
END:VCALENDAR


