BEGIN:VCALENDAR
VERSION:2.0
PRODID:-//hacksw/handcal//NONSGML v1.0//EN
BEGIN:VEVENT
UID:15640
DTSTART;VALUE=DATE:20220908
URL;VALUE=URI:ohschonhell.at/?page_id=34931
SUMMARY:Hart & Zart @ Kramladen
LOCATION:Kramladen
END:VEVENT
END:VCALENDAR


