BEGIN:VCALENDAR
VERSION:2.0
PRODID:-//hacksw/handcal//NONSGML v1.0//EN
BEGIN:VEVENT
UID:1565
DTSTART;VALUE=DATE:20140705
URL;VALUE=URI:ohschonhell.at/?page_id=4099
SUMMARY:Späte Bloomen
LOCATION:TÜWI
END:VEVENT
END:VCALENDAR


