BEGIN:VCALENDAR
VERSION:2.0
PRODID:-//hacksw/handcal//NONSGML v1.0//EN
BEGIN:VEVENT
UID:15661
DTSTART;VALUE=DATE:20220917
URL;VALUE=URI:ohschonhell.at/?page_id=34973
SUMMARY:G.SPOT Birthday BASH
LOCATION:Der Ponyhof
END:VEVENT
END:VCALENDAR


