BEGIN:VCALENDAR
VERSION:2.0
PRODID:-//hacksw/handcal//NONSGML v1.0//EN
BEGIN:VEVENT
UID:15668
DTSTART;VALUE=DATE:20220910
URL;VALUE=URI:ohschonhell.at/?page_id=34987
SUMMARY:Steve Hope - Die ganze Nacht 
LOCATION:SASS
END:VEVENT
END:VCALENDAR


