BEGIN:VCALENDAR
VERSION:2.0
PRODID:-//hacksw/handcal//NONSGML v1.0//EN
BEGIN:VEVENT
UID:15671
DTSTART;VALUE=DATE:20220831
URL;VALUE=URI:ohschonhell.at/?page_id=34993
SUMMARY:NEW KIDS ON THE STREETS #2
LOCATION:Praterstrasse / PRST
END:VEVENT
END:VCALENDAR


