BEGIN:VCALENDAR
VERSION:2.0
PRODID:-//hacksw/handcal//NONSGML v1.0//EN
BEGIN:VEVENT
UID:15674
DTSTART;VALUE=DATE:20220910
URL;VALUE=URI:ohschonhell.at/?page_id=34999
SUMMARY:GAZE #007 w/ Russell E.L. Butler\, Katia Curie & Rumi von Baires
LOCATION:Praterstrasse / PRST
END:VEVENT
END:VCALENDAR


