BEGIN:VCALENDAR
VERSION:2.0
PRODID:-//hacksw/handcal//NONSGML v1.0//EN
BEGIN:VEVENT
UID:1569
DTSTART;VALUE=DATE:20140823
URL;VALUE=URI:ohschonhell.at/?page_id=4106
SUMMARY:KAISERMÜHLEN GROOVE
LOCATION:VIENNA CITY BEACH CLUB
END:VEVENT
END:VCALENDAR


