BEGIN:VCALENDAR
VERSION:2.0
PRODID:-//hacksw/handcal//NONSGML v1.0//EN
BEGIN:VEVENT
UID:15709
DTSTART;VALUE=DATE:20220909
URL;VALUE=URI:ohschonhell.at/?page_id=35070
SUMMARY:VIENNALIZM OPEN AIR @ PORTO POLLO
LOCATION:PORTO POLLO
END:VEVENT
END:VCALENDAR


