BEGIN:VCALENDAR
VERSION:2.0
PRODID:-//hacksw/handcal//NONSGML v1.0//EN
BEGIN:VEVENT
UID:15728
DTSTART;VALUE=DATE:20220915
URL;VALUE=URI:ohschonhell.at/?page_id=35108
SUMMARY:Fummeln im Sass
LOCATION:SASS
END:VEVENT
END:VCALENDAR


