BEGIN:VCALENDAR
VERSION:2.0
PRODID:-//hacksw/handcal//NONSGML v1.0//EN
BEGIN:VEVENT
UID:15762
DTSTART;VALUE=DATE:20221001
URL;VALUE=URI:ohschonhell.at/?page_id=35177
SUMMARY:GENERAL TECHNO DE-RESTORATION w/ LUC WACKELKOPF (Tarab)
LOCATION:Kramladen
END:VEVENT
END:VCALENDAR


