BEGIN:VCALENDAR
VERSION:2.0
PRODID:-//hacksw/handcal//NONSGML v1.0//EN
BEGIN:VEVENT
UID:15792
DTSTART;VALUE=DATE:20220930
URL;VALUE=URI:ohschonhell.at/?page_id=35237
SUMMARY:WHIPLASH w/ Yetti Meissner
LOCATION:Der Ponyhof
END:VEVENT
END:VCALENDAR


