BEGIN:VCALENDAR
VERSION:2.0
PRODID:-//hacksw/handcal//NONSGML v1.0//EN
BEGIN:VEVENT
UID:15797
DTSTART;VALUE=DATE:20220923
URL;VALUE=URI:ohschonhell.at/?page_id=35247
SUMMARY:TEKNO▪︎BOOM
LOCATION:Club Change
END:VEVENT
END:VCALENDAR


