BEGIN:VCALENDAR
VERSION:2.0
PRODID:-//hacksw/handcal//NONSGML v1.0//EN
BEGIN:VEVENT
UID:15808
DTSTART;VALUE=DATE:20220923
URL;VALUE=URI:ohschonhell.at/?page_id=35269
SUMMARY:GALOPP FÜRS GEHIRN | VOL. III
LOCATION:Der Ponyhof
END:VEVENT
END:VCALENDAR


