BEGIN:VCALENDAR
VERSION:2.0
PRODID:-//hacksw/handcal//NONSGML v1.0//EN
BEGIN:VEVENT
UID:15817
DTSTART;VALUE=DATE:20221005
URL;VALUE=URI:ohschonhell.at/?page_id=35289
SUMMARY:CHEVAL fatale w/ Anni Herzer
LOCATION:Der Ponyhof
END:VEVENT
END:VCALENDAR


