BEGIN:VCALENDAR
VERSION:2.0
PRODID:-//hacksw/handcal//NONSGML v1.0//EN
BEGIN:VEVENT
UID:15820
DTSTART;VALUE=DATE:20221009
URL;VALUE=URI:ohschonhell.at/?page_id=35295
SUMMARY:Afterhour w/ Wiener Schlawiner & Detali (UA)
LOCATION:Black Market
END:VEVENT
END:VCALENDAR


