BEGIN:VCALENDAR
VERSION:2.0
PRODID:-//hacksw/handcal//NONSGML v1.0//EN
BEGIN:VEVENT
UID:15837
DTSTART;VALUE=DATE:20221014
URL;VALUE=URI:ohschonhell.at/?page_id=35330
SUMMARY:Wiener Schlawiner x ENZO
LOCATION:Enzo
END:VEVENT
END:VCALENDAR


