BEGIN:VCALENDAR
VERSION:2.0
PRODID:-//hacksw/handcal//NONSGML v1.0//EN
BEGIN:VEVENT
UID:15894
DTSTART;VALUE=DATE:20221026
URL;VALUE=URI:ohschonhell.at/?page_id=35449
SUMMARY:WiENER GRANTiX // MAXiMO 5 HOUR VINYL SPECIAL
LOCATION:Black Market
END:VEVENT
END:VCALENDAR


