BEGIN:VCALENDAR
VERSION:2.0
PRODID:-//hacksw/handcal//NONSGML v1.0//EN
BEGIN:VEVENT
UID:15898
DTSTART;VALUE=DATE:20221020
URL;VALUE=URI:ohschonhell.at/?page_id=35461
SUMMARY:Techno Session 
LOCATION:Kramladen
END:VEVENT
END:VCALENDAR


