BEGIN:VCALENDAR
VERSION:2.0
PRODID:-//hacksw/handcal//NONSGML v1.0//EN
BEGIN:VEVENT
UID:15903
DTSTART;VALUE=DATE:20221020
URL;VALUE=URI:ohschonhell.at/?page_id=35471
SUMMARY:DIVE BELIZE
LOCATION:Der Ponyhof
END:VEVENT
END:VCALENDAR


