BEGIN:VCALENDAR
VERSION:2.0
PRODID:-//hacksw/handcal//NONSGML v1.0//EN
BEGIN:VEVENT
UID:15907
DTSTART;VALUE=DATE:20221022
URL;VALUE=URI:ohschonhell.at/?page_id=35479
SUMMARY:Afterhour im Ponyhof
LOCATION:Off-Location
END:VEVENT
END:VCALENDAR


