BEGIN:VCALENDAR
VERSION:2.0
PRODID:-//hacksw/handcal//NONSGML v1.0//EN
BEGIN:VEVENT
UID:15914
DTSTART;VALUE=DATE:20221105
URL;VALUE=URI:ohschonhell.at/?page_id=35493
SUMMARY:Upgrade Ravenight
LOCATION:FLEX
END:VEVENT
END:VCALENDAR


