BEGIN:VCALENDAR
VERSION:2.0
PRODID:-//hacksw/handcal//NONSGML v1.0//EN
BEGIN:VEVENT
UID:15948
DTSTART;VALUE=DATE:20221105
URL;VALUE=URI:ohschonhell.at/?page_id=35570
SUMMARY:TAKT LOS!
LOCATION:Kramladen
END:VEVENT
END:VCALENDAR


