BEGIN:VCALENDAR
VERSION:2.0
PRODID:-//hacksw/handcal//NONSGML v1.0//EN
BEGIN:VEVENT
UID:15994
DTSTART;VALUE=DATE:20221112
URL;VALUE=URI:ohschonhell.at/?page_id=35668
SUMMARY:AFTERHOUR mit MADWIN & KRAUS KLANG
LOCATION:Black Market
END:VEVENT
END:VCALENDAR


