BEGIN:VCALENDAR
VERSION:2.0
PRODID:-//hacksw/handcal//NONSGML v1.0//EN
BEGIN:VEVENT
UID:15995
DTSTART;VALUE=DATE:20221113
URL;VALUE=URI:ohschonhell.at/?page_id=35671
SUMMARY:AFTERHOUR mit REE:RAW & DADAJACK
LOCATION:Black Market
END:VEVENT
END:VCALENDAR


