BEGIN:VCALENDAR
VERSION:2.0
PRODID:-//hacksw/handcal//NONSGML v1.0//EN
BEGIN:VEVENT
UID:15996
DTSTART;VALUE=DATE:20221109
URL;VALUE=URI:ohschonhell.at/?page_id=35674
SUMMARY:Raveladen #19
LOCATION:Kramladen
END:VEVENT
END:VCALENDAR


