BEGIN:VCALENDAR
VERSION:2.0
PRODID:-//hacksw/handcal//NONSGML v1.0//EN
BEGIN:VEVENT
UID:15998
DTSTART;VALUE=DATE:20221112
URL;VALUE=URI:ohschonhell.at/?page_id=35678
SUMMARY:LÖWENZAHN invites MILA PIETRAK (Ibiza) & TECHTUNES
LOCATION:Kramladen
END:VEVENT
END:VCALENDAR


